BEGIN:VCALENDAR
VERSION:2.0
PRODID:-//Circles of Support and Microboards - COSAMs - ECPv6.14.2//NONSGML v1.0//EN
CALSCALE:GREGORIAN
METHOD:PUBLISH
X-ORIGINAL-URL:https://cosam.org.au
X-WR-CALDESC:Events for Circles of Support and Microboards - COSAMs
REFRESH-INTERVAL;VALUE=DURATION:PT1H
X-Robots-Tag:noindex
X-PUBLISHED-TTL:PT1H
BEGIN:VTIMEZONE
TZID:Australia/Melbourne
BEGIN:STANDARD
TZOFFSETFROM:+1100
TZOFFSETTO:+1000
TZNAME:AEST
DTSTART:20180331T160000
END:STANDARD
BEGIN:DAYLIGHT
TZOFFSETFROM:+1000
TZOFFSETTO:+1100
TZNAME:AEDT
DTSTART:20181006T160000
END:DAYLIGHT
END:VTIMEZONE
BEGIN:VEVENT
DTSTART;VALUE=DATE:20181123
DTEND;VALUE=DATE:20181124
DTSTAMP:20260425T085048
CREATED:20181023T053439Z
LAST-MODIFIED:20181023T053521Z
UID:519-1542931200-1543017599@cosam.org.au
SUMMARY:Conversations that Matter - A Workshop for Facilitators
DESCRIPTION:Would you like to learn creative facilitation skills? Often our conversations and planning with people who have a disability and others who have needs often focuses on what people can’t do or finding “services” to fill people’s lives. This workshop will enhance your ability to facilitate deeper conversations which assist individuals to develop real and sustainable connection in their neighbourhoods and communities. It is especially relevant to those who facilitate Circles of Support.\nTopics covered in this workshop include:\n• Disrupting patterns of thinking and resistance\,\n• Creating vision\,\n• Embracing diversity\, values and community\,\n• Exploring valued roles\,\n• Bringing life to meetings\,\n• Doing work that matters\,\n• Getting unstuck\, and\n• Connecting people and ideas. \nThis workshop would be of interest to those who facilitate Circles of Support\, team meetings or planning meetings that aim to increase the inclusion of people who might be marginalised from the community e.g. people with a disability\, people who have a mental illness\, people who are aging etc.
URL:https://cosam.org.au/event/conversations-that-matter-a-workshop-for-facilitators/
LOCATION:Connextions\, 1A Footmark Court\, Wodonga\, VIC\, Australia
ORGANIZER;CN="Belonging Matters":MAILTO:info@belongingmatters.org
END:VEVENT
END:VCALENDAR